BEGIN:VCALENDAR
VERSION:2.0
PRODID:-//luso.eu | Jornal de Notícias das Comunidades Portuguesas//NONSGML kigkonsult.se iCalcreator 2.41.92//
CALSCALE:GREGORIAN
METHOD:PUBLISH
UID:63313163-3439-4130-b632-343830383062
X-WR-CALNAME:iCagenda
X-WR-CALDESC:Event Management Extension for Joomla!
X-WR-RELCALID:3E26604A-50F4-4449-8B3E-E4F4932D05B5
X-WR-TIMEZONE:Europe/Brussels
BEGIN:VTIMEZONE
TZID:Europe/Brussels
TZUNTIL:20271031T010000Z
BEGIN:STANDARD
TZNAME:CET
DTSTART:20251026T030000
TZOFFSETFROM:+0200
TZOFFSETTO:+0100
RDATE:20261025T030000
END:STANDARD
BEGIN:DAYLIGHT
TZNAME:CEST
DTSTART:20250330T020000
TZOFFSETFROM:+0100
TZOFFSETTO:+0200
RDATE:20260329T020000
RDATE:20270328T020000
END:DAYLIGHT
END:VTIMEZONE
BEGIN:VEVENT
UID:36353666-6539-4039-a366-313734323830
DTSTAMP:20260422T212804Z
CATEGORIES:Eventos diversos
CLASS:PUBLIC
DESCRIPTION;ALTREP="CID:<FFFF__=0ABBE548DFE235B58f9e8a93d@coffeebean.com>":
 Votre playlist\, votre concert unique. \nAprès le lumineux et exaltant n°9
  Tour\, Jenifer revient sur scène pour partager un moment unique et intime
  autour de son répertoire avec JUKEBOX TOUR.\nEt c’est vous qui choisissez
  la playlist!*\nUne expérience unique qui vous permettra de choisir parmi 
 une large sélection de ses chansons celles qui seront interprétées sur scè
 ne chaque soir.\nComment ça marche ?\nDès votre arrivée dans la salle\, ut
 ilisez votre téléphone pour scanner le QR code du JUKE BOX TOUR et compose
 r votre playlist parmi les titres proposés .\nÀ quelques minutes de son en
 trée sur scène\, Jenifer découvrira votre sélection coup de cœur. \nVotre 
 concert deviendra un spectacle fait sur mesure\, rien que pour vous.\nTick
 ets en vente à partir de ce vendredi 20 décembre à 12h
DTSTART:20251127T190000Z
DTEND:20251127T200000Z
GEO:+50.848858;+4.366019
LOCATION:
ORGANIZER;CN=:mailto:info@cirqueroyalbruxelles.be
SEQUENCE:1
SUMMARY:JENIFER JUKE BOX TOUR
TRANSP:OPAQUE
URL:https://www.luso.eu/component/icagenda/jenifer-juke-box-tour.html
END:VEVENT
END:VCALENDAR
