BEGIN:VCALENDAR
VERSION:2.0
PRODID:-//luso.eu | Jornal de Notícias das Comunidades Portuguesas//NONSGML kigkonsult.se iCalcreator 2.41.92//
CALSCALE:GREGORIAN
METHOD:PUBLISH
UID:30373636-3832-4137-b664-376132313438
X-WR-CALNAME:iCagenda
X-WR-CALDESC:Event Management Extension for Joomla!
X-WR-RELCALID:3E26604A-50F4-4449-8B3E-E4F4932D05B5
X-WR-TIMEZONE:Europe/Brussels
BEGIN:VTIMEZONE
TZID:Europe/Brussels
TZUNTIL:20271031T010000Z
BEGIN:STANDARD
TZNAME:CET
DTSTART:20251026T030000
TZOFFSETFROM:+0200
TZOFFSETTO:+0100
RDATE:20261025T030000
END:STANDARD
BEGIN:DAYLIGHT
TZNAME:CEST
DTSTART:20250330T020000
TZOFFSETFROM:+0100
TZOFFSETTO:+0200
RDATE:20260329T020000
RDATE:20270328T020000
END:DAYLIGHT
END:VTIMEZONE
BEGIN:VEVENT
UID:32363563-3730-4662-b938-613634633834
DTSTAMP:20260421T093134Z
CATEGORIES:Eventos diversos
CLASS:PUBLIC
DESCRIPTION;ALTREP="CID:<FFFF__=0ABBE548DFE235B58f9e8a93d@coffeebean.com>":
 The Association Femmes d’Europe is excited to invite you to its annual Cha
 rity Christmas Bazaar ! This is a festive occasion where all of your purch
 ases will support a good cause.\n Discover a brilliant selection of splend
 id gifts\, all in one place :\n• Gourmet delicacies from the four corners 
 of Europe.• Winter accessories – scarves\, hats and shawls.• Handmade Jewe
 llery and Christmas decorations. • Luxury soaps\, hand knits and ornaments
 .• Classy Brocante and books for all ages.• Activities for children.\n Spr
 ead the Word ! Invite your family\, friends and colleagues.Together you ca
 n support meaningful humanitarian projects for those in need in a warm and
  festive atmosphere.\n In the café you can enjoy speciality foods from man
 y parts of the world.\n Tombola draw at 15.00. Many exciting prizes to be 
 won !
DTSTART:20251129T090000Z
DTEND:20251129T180000Z
GEO:+50.845024;+4.375863
LOCATION:
ORGANIZER:
SEQUENCE:1
SUMMARY:Charity Christmas Bazaar
TRANSP:OPAQUE
URL:https://www.luso.eu/component/icagenda/charity-christmas-bazaar.html
END:VEVENT
END:VCALENDAR
