BEGIN:VCALENDAR
VERSION:2.0
PRODID:-//luso.eu | Jornal de Notícias das Comunidades Portuguesas//NONSGML kigkonsult.se iCalcreator 2.41.92//
CALSCALE:GREGORIAN
METHOD:PUBLISH
UID:31626530-3664-4863-b166-643736373633
X-WR-CALNAME:iCagenda
X-WR-CALDESC:Event Management Extension for Joomla!
X-WR-RELCALID:3E26604A-50F4-4449-8B3E-E4F4932D05B5
X-WR-TIMEZONE:Europe/Brussels
BEGIN:VTIMEZONE
TZID:Europe/Brussels
TZUNTIL:20280326T010000Z
BEGIN:STANDARD
TZNAME:CET
DTSTART:20251026T030000
TZOFFSETFROM:+0200
TZOFFSETTO:+0100
RDATE:20261025T030000
RDATE:20271031T030000
END:STANDARD
BEGIN:DAYLIGHT
TZNAME:CEST
DTSTART:20260329T020000
TZOFFSETFROM:+0100
TZOFFSETTO:+0200
RDATE:20270328T020000
END:DAYLIGHT
END:VTIMEZONE
BEGIN:VEVENT
UID:61313634-6163-4665-a530-633963643139
DTSTAMP:20260420T035825Z
CATEGORIES:Eventos diversos
CLASS:PUBLIC
DESCRIPTION;ALTREP="CID:<FFFF__=0ABBE548DFE235B58f9e8a93d@coffeebean.com>":
 Florent Pagny est de retour ! Avec « Le Retour »\, il parcourt l’Europe et
  fait une halte à Forest National. Chantez toute la soirée avec ses plus g
 rands classiques !\nFlorent Pagny fera son grand retour en 2026 avec une t
 ournée exceptionnelle.\nIl revient prêt à partager des moments forts avec 
 son public\, où il interprétera tous ses tubes.\nC’est à partir du mois de
  janvier que Florent Pagny parcourra les villes de France\, Suisse et Belg
 ique lors de séries de concerts exclusifs\, avant de pousser les portes de
  l’Olympia et s’y installer en juin et juillet 2026 pour une résidence iné
 dite.\nRendez-vous dans toute la France\, en Suisse et en Belgique dès jan
 vier 2026.
DTSTART:20260610T180000Z
DTEND:20260610T180000Z
GEO:+50.809647;+4.326075
LOCATION:
ORGANIZER:
SEQUENCE:1
SUMMARY:Florent Pagny Le Retour - La Tournée Des 65 Ans
TRANSP:OPAQUE
URL:https://www.luso.eu/agenda/florent-pagny-le-retour-la-tourn%C3%A9e-des-
 65-ans.html
END:VEVENT
END:VCALENDAR
