BEGIN:VCALENDAR
VERSION:2.0
PRODID:-//luso.eu | Jornal de Notícias das Comunidades Portuguesas//NONSGML kigkonsult.se iCalcreator 2.41.92//
CALSCALE:GREGORIAN
METHOD:PUBLISH
UID:32316531-6537-4235-b864-616537333061
X-WR-CALNAME:iCagenda
X-WR-CALDESC:Event Management Extension for Joomla!
X-WR-RELCALID:3E26604A-50F4-4449-8B3E-E4F4932D05B5
X-WR-TIMEZONE:Europe/Brussels
BEGIN:VTIMEZONE
TZID:Europe/Brussels
TZUNTIL:20271031T010000Z
BEGIN:STANDARD
TZNAME:CET
DTSTART:20251026T030000
TZOFFSETFROM:+0200
TZOFFSETTO:+0100
RDATE:20261025T030000
END:STANDARD
BEGIN:DAYLIGHT
TZNAME:CEST
DTSTART:20250330T020000
TZOFFSETFROM:+0100
TZOFFSETTO:+0200
RDATE:20260329T020000
RDATE:20270328T020000
END:DAYLIGHT
END:VTIMEZONE
BEGIN:VEVENT
UID:63636236-3166-4835-a636-623733393864
DTSTAMP:20260419T171303Z
CATEGORIES:Comunidades
CLASS:PUBLIC
DESCRIPTION;ALTREP="CID:<FFFF__=0ABBE548DFE235B58f9e8a93d@coffeebean.com>":
 \nConcerto de Natal - Marta Pereira da Costa e João Pita\n\n\nJunte-se a n
 ós para uma noite dedicada à música portuguesa\, com Marta Pereira da Cost
 a\, uma das únicas mulheres no mundo profissionalmente dedicada à guitarra
  portuguesa. Num percurso que cruza fado\, jazz e sonoridades globais\, a 
 artista traz ao palco a sensibilidade e a força de um instrumento emblemát
 ico.\n\n\nNesta época festiva\, convidamo-lo a celebrar o espírito de Nata
 l através da música. Este concerto pretende ser um momento de encontro\, p
 artilha e inspiração.\n \n\n\n Quando: Sexta-feira\, dia 12 de dezembro\, 
 às 17h.\n \nOnde: Residência Oficial do Embaixador de Portugal - Avenue Lo
 uise 370\, 1050 Bruxelas\n \nEntrada livre mediante inscrição prévia no Ev
 entbrite - https://tinyurl.com/ConcertodeNatal2025
DTSTART:20251212T160000Z
DTEND:20251212T173000Z
GEO:+50.821781;+4.370191
LOCATION:
ORGANIZER:
SEQUENCE:1
SUMMARY:Concerto de Natal - Marta Pereira da Costa e João Pita
TRANSP:OPAQUE
URL:https://www.luso.eu/agenda/concerto-de-natal-marta-pereira-da-costa-e-j
 o%C3%A3o-pita.html
END:VEVENT
END:VCALENDAR
