BEGIN:VCALENDAR
VERSION:2.0
PRODID:-//luso.eu | Jornal de Notícias das Comunidades Portuguesas//NONSGML kigkonsult.se iCalcreator 2.41.92//
CALSCALE:GREGORIAN
METHOD:PUBLISH
UID:34366238-3337-4064-a435-306564633663
X-WR-CALNAME:iCagenda
X-WR-CALDESC:Event Management Extension for Joomla!
X-WR-RELCALID:3E26604A-50F4-4449-8B3E-E4F4932D05B5
X-WR-TIMEZONE:Europe/Brussels
BEGIN:VTIMEZONE
TZID:Europe/Brussels
TZUNTIL:20271031T010000Z
BEGIN:STANDARD
TZNAME:CET
DTSTART:20251026T030000
TZOFFSETFROM:+0200
TZOFFSETTO:+0100
RDATE:20261025T030000
END:STANDARD
BEGIN:DAYLIGHT
TZNAME:CEST
DTSTART:20250330T020000
TZOFFSETFROM:+0100
TZOFFSETTO:+0200
RDATE:20260329T020000
RDATE:20270328T020000
END:DAYLIGHT
END:VTIMEZONE
BEGIN:VEVENT
UID:31366536-3666-4233-b238-306337306661
DTSTAMP:20260421T035101Z
CATEGORIES:Comunidades
CLASS:PUBLIC
DESCRIPTION;ALTREP="CID:<FFFF__=0ABBE548DFE235B58f9e8a93d@coffeebean.com>":
 No domingo\, 30 de novembro de 2025\, venha falar com a Equipa da Caixa Ge
 ral de Depósitos na APEB. Permanência das 15H às 18H
DTSTART:20251130T140000Z
DTEND:20251130T170000Z
GEO:+50.81942;+4.377887
LOCATION:
ORGANIZER:
SEQUENCE:1
SUMMARY:Caixa Geral de Depósitos na APEB
TRANSP:OPAQUE
URL:https://www.luso.eu/agenda/caixa-geral-de-dep%C3%B3sitos-na-apeb.html
END:VEVENT
END:VCALENDAR
